BEGIN:VCALENDAR
VERSION:2.0
PRODID:-//First Presbyterian Church - ECPv5.0.3.1//NONSGML v1.0//EN
CALSCALE:GREGORIAN
METHOD:PUBLISH
X-WR-CALNAME:First Presbyterian Church
X-ORIGINAL-URL:https://chespresny.com
X-WR-CALDESC:Events for First Presbyterian Church
BEGIN:VTIMEZONE
TZID:UTC
BEGIN:STANDARD
TZOFFSETFROM:+0000
TZOFFSETTO:+0000
TZNAME:UTC
DTSTART:20180101T000000
END:STANDARD
END:VTIMEZONE
BEGIN:VEVENT
DTSTART;TZID=UTC:20180812T113000
DTEND;TZID=UTC:20180812T140000
DTSTAMP:20260422T050736
CREATED:20180806T160115Z
LAST-MODIFIED:20180806T160436Z
UID:2364-1534073400-1534082400@chespresny.com
SUMMARY:Session Meeting
DESCRIPTION:Following worship \n
URL:https://chespresny.com/event/session-meeting-8/
LOCATION:CE Building
END:VEVENT
END:VCALENDAR